BEGIN:VCALENDAR
VERSION:2.0
PRODID:-//ChamberMaster//Event Calendar 2.0//EN
METHOD:PUBLISH
X-PUBLISHED-TTL:P3D
REFRESH-INTERVAL:P3D
CALSCALE:GREGORIAN
BEGIN:VEVENT
DTSTART:20130722T114500Z
DTEND:20130724T220000Z
X-MICROSOFT-CDO-ALLDAYEVENT:FALSE
SUMMARY:Site visit to Dawei SEZ\, Myanmar
DESCRIPTION:A three day-two night trip to Dawei\, Tanintharyi Region in Myanmar to survey the Dawei Special Economic Zone. Traveling over land through the newly completed road that is part of the GMS Southern Corridor Link\, which connects Dawei and Bangkok through Phu Nam Ron border checkpoint. One full day to visit and explore the Dawei Project site. The project developer\, ItalThai (ITD)\, will provide a tour and presentation of the area during our visit with opportunity to assess progress and engage local stakeholders including senior Myanmar officials.
X-ALT-DESC;FMTTYPE=text/html:A three day-two night trip to Dawei\, Tanintharyi Region in Myanmar to survey the Dawei Special Economic Zone. Traveling over land through the newly completed road that is part of the GMS Southern Corridor Link\, which connects Dawei and Bangkok through Phu Nam Ron border checkpoint. One full day to visit and explore the Dawei Project site. The project developer\, ItalThai (ITD)\, will provide a tour and presentation of the area during our visit with opportunity to assess progress and engage local stakeholders including senior Myanmar officials.
LOCATION:
UID:e.9078.873
SEQUENCE:3
DTSTAMP:20260421T211055Z
URL:http://memberzone.usasean.org/events/details/site-visit-to-dawei-sez-myanmar-07-22-2013-873
END:VEVENT

END:VCALENDAR
