BEGIN:VCALENDAR
VERSION:2.0
PRODID:-//ChamberMaster//Event Calendar 2.0//EN
METHOD:PUBLISH
X-PUBLISHED-TTL:P3D
REFRESH-INTERVAL:P3D
CALSCALE:GREGORIAN
BEGIN:VEVENT
DTSTART:20140908T160000Z
DTEND:20140908T183000Z
X-MICROSOFT-CDO-ALLDAYEVENT:FALSE
SUMMARY:Singapore Roundtable SME Discussion with PDAS John Andersen
DESCRIPTION:Singapore Roundtable Discussion and Luncheon with Principal Deputy Assistant Secretary of Commerce for Global Markets\, Mr. John Andersen
X-ALT-DESC;FMTTYPE=text/html:Singapore Roundtable Discussion and Luncheon&nbsp\;with Principal Deputy Assistant Secretary of Commerce for Global Markets\, Mr. John Andersen
LOCATION:To be confirmed
UID:e.9078.1246
SEQUENCE:3
DTSTAMP:20260420T052337Z
URL:http://memberzone.usasean.org/events/details/singapore-roundtable-sme-discussion-with-pdas-john-andersen-09-08-2014-1246
END:VEVENT

END:VCALENDAR
