BEGIN:VCALENDAR
VERSION:2.0
PRODID:-//ChamberMaster//Event Calendar 2.0//EN
METHOD:PUBLISH
X-PUBLISHED-TTL:P3D
REFRESH-INTERVAL:P3D
CALSCALE:GREGORIAN
BEGIN:VEVENT
DTSTART;VALUE=DATE:20131028
DTEND;VALUE=DATE:20131102
TRANSP:TRANSPARENT
X-MICROSOFT-CDO-ALLDAYEVENT:TRUE
SUMMARY:Singapore International Energy Week
DESCRIPTION:The Singapore International Energy Week (SIEW) is an annual week-long platform for energy professionals\, policymakers and commentators to discuss and share best practices and solutions within the global energy space.
X-ALT-DESC;FMTTYPE=text/html:The Singapore International Energy Week (SIEW) is an annual week-long platform for energy professionals\, policymakers and commentators to discuss and share best practices and solutions within the global energy space.<br />\n<br />\n
LOCATION:Singapore
UID:e.9078.938
SEQUENCE:3
DTSTAMP:20260421T093537Z
URL:http://memberzone.usasean.org/events/details/singapore-international-energy-week-10-28-2013-938
END:VEVENT

END:VCALENDAR
