BEGIN:VCALENDAR
VERSION:2.0
PRODID:-//ChamberMaster//Event Calendar 2.0//EN
METHOD:PUBLISH
X-PUBLISHED-TTL:P3D
REFRESH-INTERVAL:P3D
CALSCALE:GREGORIAN
BEGIN:VEVENT
DTSTART:20141013T044500Z
DTEND:20141013T060000Z
X-MICROSOFT-CDO-ALLDAYEVENT:FALSE
SUMMARY:Singapore Infrastructure Discussion and Luncheon with Assistant Secretary of Commerce Arun Kumar
DESCRIPTION:Singapore Infrastructure Discussion and Luncheon with A/S Arun Kumar
X-ALT-DESC;FMTTYPE=text/html:Singapore Infrastructure Discussion and Luncheon with A/S Arun Kumar
LOCATION:KPMG\, 16 Raffles Quay #16-00 Hong Leong Building\, Singapore 048581
UID:e.9078.1284
SEQUENCE:3
DTSTAMP:20260420T034901Z
URL:http://memberzone.usasean.org/events/details/singapore-infrastructure-discussion-and-luncheon-with-assistant-secretary-of-commerce-arun-kumar-10-13-2014-1284
END:VEVENT

END:VCALENDAR
