BEGIN:VCALENDAR
VERSION:2.0
PRODID:-//ChamberMaster//Event Calendar 2.0//EN
METHOD:PUBLISH
X-PUBLISHED-TTL:P3D
REFRESH-INTERVAL:P3D
CALSCALE:GREGORIAN
BEGIN:VEVENT
DTSTART:20220412T000000Z
DTEND:20220412T010000Z
X-MICROSOFT-CDO-ALLDAYEVENT:FALSE
SUMMARY:Singapore Business Mission Planning Call 1
DESCRIPTION:
X-ALT-DESC;FMTTYPE=text/html:
LOCATION:Zoom Meeting Zoom details will be provided upon registration.
UID:e.9078.8750
SEQUENCE:3
DTSTAMP:20260422T172251Z
URL:http://memberzone.usasean.org/events/details/singapore-business-mission-planning-call-1-8750
END:VEVENT

END:VCALENDAR
