BEGIN:VCALENDAR
VERSION:2.0
PRODID:-//ChamberMaster//Event Calendar 2.0//EN
METHOD:PUBLISH
X-PUBLISHED-TTL:P3D
REFRESH-INTERVAL:P3D
CALSCALE:GREGORIAN
BEGIN:VEVENT
DTSTART:20140210T084500Z
DTEND:20140210T100000Z
X-MICROSOFT-CDO-ALLDAYEVENT:FALSE
SUMMARY:Singapore Briefing with Ambassador Derek J. Mitchell
DESCRIPTION:Briefing with Ambassador Derek J. Mitchell\, U.S. Ambassador to Burma
X-ALT-DESC;FMTTYPE=text/html:Briefing with Ambassador Derek J. Mitchell\, U.S. Ambassador to Burma
LOCATION:American Chamber of Commerce in Singapore 1 Scotts Road\, Shaw Centre #23-03/04/05 Singapore 228208
UID:e.9078.1037
SEQUENCE:3
DTSTAMP:20260421T042530Z
URL:http://memberzone.usasean.org/events/details/singapore-briefing-with-ambassador-derek-j-mitchell-02-10-2014-1037
END:VEVENT

END:VCALENDAR
