BEGIN:VCALENDAR
VERSION:2.0
PRODID:-//ChamberMaster//Event Calendar 2.0//EN
METHOD:PUBLISH
X-PUBLISHED-TTL:P3D
REFRESH-INTERVAL:P3D
CALSCALE:GREGORIAN
BEGIN:VEVENT
DTSTART:20150423T123000Z
DTEND:20150423T140000Z
X-MICROSOFT-CDO-ALLDAYEVENT:FALSE
SUMMARY:Singapore Breakfast with Ambassador Mirpuri
DESCRIPTION:Breakfast Dialogue with Singapore Ambassador H.E. Ashok Kumar Mirpuri
X-ALT-DESC;FMTTYPE=text/html:<span style="background-image:initial\;background-attachment:initial\;background-size:initial\;background-origin:initial\;background-clip:initial\;background-position:initial\;background-repeat:initial\;"><span style="color:#444444\;"><span style="font-family:arial\,sans-serif\;"><span style="font-size:10.5pt\;">Breakfast Dialogue with Singapore Ambassador&nbsp\;H.E. Ashok Kumar Mirpuri</span></span></span></span>
LOCATION:Embassy of the Republic of Singapore 3501 International Pl.\, NW Washington\, DC 20008
UID:e.9078.1251
SEQUENCE:3
DTSTAMP:20260419T172800Z
URL:http://memberzone.usasean.org/events/details/singapore-breakfast-with-ambassador-mirpuri-04-23-2015-1251
END:VEVENT

END:VCALENDAR
