BEGIN:VCALENDAR
VERSION:2.0
PRODID:-//ChamberMaster//Event Calendar 2.0//EN
METHOD:PUBLISH
X-PUBLISHED-TTL:P3D
REFRESH-INTERVAL:P3D
CALSCALE:GREGORIAN
BEGIN:VEVENT
DTSTART;VALUE=DATE:20110913
DTEND;VALUE=DATE:20110914
TRANSP:TRANSPARENT
X-MICROSOFT-CDO-ALLDAYEVENT:TRUE
SUMMARY:Sept. 13 Roundtable with Amb. David Carden - Sep 13 2011
DESCRIPTION:
X-ALT-DESC;FMTTYPE=text/html:
LOCATION:
UID:e.9078.552
SEQUENCE:3
DTSTAMP:20260426T011625Z
URL:http://memberzone.usasean.org/events/details/sept-13-roundtable-with-amb-david-carden-sep-13-2011-09-13-2011-552
END:VEVENT

END:VCALENDAR
