BEGIN:VCALENDAR
VERSION:2.0
PRODID:-//ChamberMaster//Event Calendar 2.0//EN
METHOD:PUBLISH
X-PUBLISHED-TTL:P3D
REFRESH-INTERVAL:P3D
CALSCALE:GREGORIAN
BEGIN:VEVENT
DTSTART:20210831T120000Z
DTEND:20210831T133000Z
X-MICROSOFT-CDO-ALLDAYEVENT:FALSE
SUMMARY:Second Planning Call for the 2021 Virtual Business Mission to the 53rd ASEAN Economic Ministers (AEM) Meeting
DESCRIPTION:Dear Members\,\n\n\n\nThe Council is pleased to invite members to join the Second Planning Call for the 2021 Virtual Business Mission to 53rd ASEAN Economic Ministers (AEM) Meeting on Tuesday\, August 31\, 2021 from 8.00 PM - 9.30 PM (SGT)/Tuesday\, August 31\, 2021 from 08.00 AM - 09.30 AM (ET).\n\n \n\nPlease see the details of invitation and registration for the 2021 Virtual Business Mission. And you may find the attached file of meeting notes from the First Planning Call for the 2021 Virtual Business Mission to the 53rd AEM Meeting. \n\n \n\nCall Agenda:\n\nDuring the first part of the call\, Ms. Marta Prado\, Acting Assistant to the U.S. Trade Representative for the Office of Southeast Asia and the Pacific (official bio is available here)\, will provide a briefing on the U.S. Government (USG)?s priorities for engaging the ASEAN Economic Ministers during the 53rd AEM Meeting. The briefing will be followed by a short Q&A session.\n\n\n\nOn the second part of the call\, we will discuss the detailed agenda and other logistical arrangements for the Virtual Business Mission\, including preparing the presentation during the AEM-USTR Consultation\, key deliverables to the AEM\, and updating our meeting schedule.\n\n\n\nA final agenda and dial-in details will be circulated to registered participants prior to the call. If you are interested or have any questions regarding the mission\, please reach out to Marcella Suwandhi at msuwandhi@usasean.org or Nugraheni Utami at utami@usasean.org.
X-ALT-DESC;FMTTYPE=text/html:<span style="color:#201F1E\;"><span style="font-family:arial\,sans-serif\;"><span style="font-size:12.0pt\;">Dear Members\,</span></span></span><br>\n<br>\n<span style="color:#201F1E\;"><span style="font-family:arial\,sans-serif\;"><span style="font-size:12.0pt\;">The Council is pleased to invite members to join the Second Planning Call for the 2021 Virtual Business Mission to 53<sup>rd</sup> ASEAN Economic Ministers (AEM) Meeting on <strong>Tuesday\, August 31\, 2021 from 8.00 PM - 9.30 PM (SGT)/Tuesday\, August 31\, 2021 from 08.00 AM - 09.30 AM (ET)</strong>.</span></span></span><br>\n&nbsp\;<br>\n<span style="color:#201F1E\;"><span style="font-family:arial\,sans-serif\;"><span style="font-size:12.0pt\;">Please see the details of <strong><a href="http://usasean.memberzone.com/events/details/2021-virtual-business-mission-to-the-53rd-asean-economic-ministers-aem-meeting-8531?calendarMonth=2021-09-01">invitation</a></strong> and <strong><a href="https://www.usasean.org/mission/registration">registration</a></strong> for the 2021 Virtual Business Mission. And you may find the attached file of meeting notes from the First Planning Call for the 2021 Virtual Business Mission to the 53<sup>rd</sup> AEM Meeting. </span></span></span><br>\n&nbsp\;<br>\n<u><span style="color:#201F1E\;"><span style="font-family:arial\,sans-serif\;"><span style="font-size:12.0pt\;">Call Agenda</span></span></span></u><span style="color:#201F1E\;"><span style="font-family:arial\,sans-serif\;"><span style="font-size:12.0pt\;">:</span></span></span><br>\n<span style="color:#201F1E\;"><span style="font-family:arial\,sans-serif\;"><span style="font-size:12.0pt\;">During the first part of the call\, <strong>Ms. Marta Prado\,</strong> <strong>Acting Assistant to the U.S. Trade Representative for the Office of Southeast Asia and the Pacific</strong> (official bio is available </span></span></span><a href="https://ustr.gov/about-us/biographies-key-officials/marta-prado-austr"><strong><span style="font-family:arial\,sans-serif\;"><span style="font-size:12.0pt\;">here</span></span></strong></a><span style="color:#201F1E\;"><span style="font-family:arial\,sans-serif\;"><span style="font-size:12.0pt\;">)\, will provide a briefing on the U.S. Government (USG)?s priorities for engaging the ASEAN Economic Ministers during the 53rd AEM Meeting. The briefing will be followed by a short Q&amp\;A session.</span></span></span><br>\n<br>\n<span style="color:#201F1E\;"><span style="font-family:arial\,sans-serif\;"><span style="font-size:12.0pt\;">On the second part of the call\, we will discuss the detailed agenda and other logistical arrangements for the Virtual Business Mission\, including preparing the presentation during the AEM-USTR Consultation\, key deliverables to the AEM\, and updating our meeting schedule.</span></span></span><br>\n<br>\n<span style="color:#201F1E\;"><span style="font-family:arial\,sans-serif\;"><span style="font-size:12.0pt\;">A final agenda and dial-in details will be circulated to registered participants prior to the call. If you are interested or have any questions regarding the mission\, please reach out to <strong>Marcella Suwandhi</strong> at </span></span></span><a href="mailto:msuwandhi@usasean.org"><span style="font-family:arial\,sans-serif\;"><span style="font-size:12.0pt\;">msuwandhi@usasean.org</span></span></a><span style="color:#201F1E\;"><span style="font-family:arial\,sans-serif\;"><span style="font-size:12.0pt\;"> or <strong>Nugraheni Utami</strong> at </span></span></span><a href="mailto:utami@usasean.org"><span style="font-family:arial\,sans-serif\;"><span style="font-size:12.0pt\;">utami@usasean.org</span></span></a><span style="color:#201F1E\;"><span style="font-family:arial\,sans-serif\;"><span style="font-size:12.0pt\;">.</span></span></span>
LOCATION:Zoom
UID:e.9078.8546
SEQUENCE:3
DTSTAMP:20260419T160157Z
URL:http://memberzone.usasean.org/events/details/second-planning-call-for-the-2021-virtual-business-mission-to-the-53rd-asean-economic-ministers-aem-meeting-8546
END:VEVENT

END:VCALENDAR
