BEGIN:VCALENDAR
VERSION:2.0
PRODID:-//ChamberMaster//Event Calendar 2.0//EN
METHOD:PUBLISH
X-PUBLISHED-TTL:P3D
REFRESH-INTERVAL:P3D
CALSCALE:GREGORIAN
BEGIN:VEVENT
DTSTART:20200929T003000Z
DTEND:20200929T020000Z
X-MICROSOFT-CDO-ALLDAYEVENT:FALSE
SUMMARY:Second Meeting of the COVID-19 Economic Recovery Task Force
DESCRIPTION:Please join us for the second meeting of the COVID-19 Economic Recovery Task Force on Tuesday September 29\, 8:30-10:00 AM SGT.
X-ALT-DESC;FMTTYPE=text/html:Please join us for the second meeting of the COVID-19 Economic Recovery Task Force on Tuesday September 29\, 8:30-10:00 AM SGT.&nbsp\;<br />\n<br />\n&nbsp\;
LOCATION:
UID:e.9078.8307
SEQUENCE:3
DTSTAMP:20260420T095724Z
URL:http://memberzone.usasean.org/events/details/second-meeting-of-the-covid-19-economic-recovery-task-force-8307
END:VEVENT

END:VCALENDAR
