BEGIN:VCALENDAR
VERSION:2.0
PRODID:-//ChamberMaster//Event Calendar 2.0//EN
METHOD:PUBLISH
X-PUBLISHED-TTL:P3D
REFRESH-INTERVAL:P3D
CALSCALE:GREGORIAN
BEGIN:VEVENT
DTSTART:20220810T020000Z
DTEND:20220810T040000Z
X-MICROSOFT-CDO-ALLDAYEVENT:FALSE
SUMMARY:Second JCSWG Meeting with U.S. Government Agencies\, Government of Indonesia and U.S. Industry Stakeholders
DESCRIPTION:
X-ALT-DESC;FMTTYPE=text/html:
LOCATION:
UID:e.9078.8832
SEQUENCE:3
DTSTAMP:20260422T001521Z
URL:http://memberzone.usasean.org/events/details/second-jcswg-meeting-with-u-s-government-agencies-government-of-indonesia-and-u-s-industry-stakeholders-8832
END:VEVENT

END:VCALENDAR
