BEGIN:VCALENDAR
VERSION:2.0
PRODID:-//ChamberMaster//Event Calendar 2.0//EN
METHOD:PUBLISH
X-PUBLISHED-TTL:P3D
REFRESH-INTERVAL:P3D
CALSCALE:GREGORIAN
BEGIN:VEVENT
DTSTART:20140313T120000Z
DTEND:20140313T130000Z
X-MICROSOFT-CDO-ALLDAYEVENT:FALSE
SUMMARY:Second Conference Call to Discuss the 2014 ASEAN Finance Ministers' Meeting Business Mission
DESCRIPTION:Second Conference Call to Discuss the 2014 ASEAN Finance Ministers' Meeting Business Mission
X-ALT-DESC;FMTTYPE=text/html:<span style="font-family: arial\; font-size: 14px\; letter-spacing: 1px\; line-height: 22.399999618530273px\;">Second Conference Call to Discuss the 2014 ASEAN Finance Ministers&#39\; Meeting Business Mission</span>
LOCATION:
UID:e.9078.1073
SEQUENCE:3
DTSTAMP:20260420T172019Z
URL:http://memberzone.usasean.org/events/details/second-conference-call-to-discuss-the-2014-asean-finance-ministers-meeting-business-mission-03-13-2014-1073
END:VEVENT

END:VCALENDAR
