BEGIN:VCALENDAR
VERSION:2.0
PRODID:-//ChamberMaster//Event Calendar 2.0//EN
METHOD:PUBLISH
X-PUBLISHED-TTL:P3D
REFRESH-INTERVAL:P3D
CALSCALE:GREGORIAN
BEGIN:VEVENT
DTSTART:20220718T010000Z
DTEND:20220718T020000Z
X-MICROSOFT-CDO-ALLDAYEVENT:FALSE
SUMMARY:Second 2022: F&A Committee Call
DESCRIPTION:Second 2022 F&A Committee Call
X-ALT-DESC;FMTTYPE=text/html:Second 2022 F&amp\;A Committee Call
LOCATION:
UID:e.9078.8816
SEQUENCE:3
DTSTAMP:20260422T013951Z
URL:http://memberzone.usasean.org/events/details/second-2022-f-a-committee-call-8816
END:VEVENT

END:VCALENDAR
