BEGIN:VCALENDAR
VERSION:2.0
PRODID:-//ChamberMaster//Event Calendar 2.0//EN
METHOD:PUBLISH
X-PUBLISHED-TTL:P3D
REFRESH-INTERVAL:P3D
CALSCALE:GREGORIAN
BEGIN:VEVENT
DTSTART:20220726T180000Z
DTEND:20220726T210000Z
X-MICROSOFT-CDO-ALLDAYEVENT:FALSE
SUMMARY:Roundtable with Vietnam MOIT Vice Minister Dang Hoang An
DESCRIPTION:Roundtable on Vietnam Sustainable Energy Development\n\nwith\n\nH.E. Dang Hoang An\n\nVice Minister of Industry & Trade of Vietnam
X-ALT-DESC;FMTTYPE=text/html:<b><span style="font-size: 16pt\; font-family: Arial\, sans-serif\; letter-spacing: 0.75pt\;">Roundtable on Vietnam Sustainable Energy Development</span><br style="caret-color: rgb(51\, 51\, 51)\;\ntext-size-adjust: auto" />\n<span style="caret-color: rgb(51\, 51\, 51)\;text-size-adjust: auto">with</span><br style="caret-color: rgb(51\, 51\, 51)\;text-size-adjust: auto" />\n<span style="caret-color: rgb(51\, 51\, 51)\;text-size-adjust: auto">H.E. Dang Hoang An</span><br style="caret-color: rgb(51\, 51\, 51)\;text-size-adjust: auto" />\n<span style="caret-color: rgb(51\, 51\, 51)\;text-size-adjust: auto">Vice Minister of Industry &amp\; Trade of Vietnam</span></b>
LOCATION:Washington\, D.C.
UID:e.9078.8829
SEQUENCE:3
DTSTAMP:20260422T014856Z
URL:http://memberzone.usasean.org/events/details/roundtable-with-vietnam-moit-vice-minister-dang-hoang-an-8829
END:VEVENT

END:VCALENDAR
