BEGIN:VCALENDAR
VERSION:2.0
PRODID:-//ChamberMaster//Event Calendar 2.0//EN
METHOD:PUBLISH
X-PUBLISHED-TTL:P3D
REFRESH-INTERVAL:P3D
CALSCALE:GREGORIAN
BEGIN:VEVENT
DTSTART:20180531T140000Z
DTEND:20180531T153000Z
X-MICROSOFT-CDO-ALLDAYEVENT:FALSE
SUMMARY:Roundtable with Undersecretary Ceferino S. Rodolfo\, Philippines Department of Trade and Industry
DESCRIPTION:Please join us for a roundtable discussion with Mr. Ceferino Rodolfo\, Undersecretary of the Industry Development and Trade Policy Group at the Philippines Department of Trade and Industry\, during his visit to Washington\, D.C. Undersecretary Rodolfo is also Vice Chairman and Managing Head of the Bureau of Investments of the Philippines.\n\n\n\nDuring the roundtable Undersecretary Rodolfo will provide an update on the Philippine economy\, prospects for a Philippines-U.S. free trade agreement\, the first two packages of the Tax Reform for Acceleration and Inclusion (TRAIN)\, and recent work with ASEAN. Click here for Undersecretary Rodolfo's bio.\n\n\n\nIf you would like to attend the roundtable\, please register before Tuesday\, May 29. Please contact with Riley Smith at rsmith@usasean.org with any questions.
X-ALT-DESC;FMTTYPE=text/html:Please join us for a roundtable discussion with Mr. Ceferino Rodolfo\, Undersecretary of the Industry Development and Trade Policy Group at the Philippines Department of Trade and Industry\, during his visit to Washington\, D.C. Undersecretary Rodolfo is also Vice Chairman and Managing Head of the Bureau of Investments of the Philippines.<br />\n<br />\nDuring the roundtable Undersecretary Rodolfo will provide an update on the Philippine economy\, prospects for a Philippines-U.S. free trade agreement\, the first two packages of the Tax Reform for Acceleration and Inclusion (TRAIN)\, and recent work with ASEAN. <a href="https://chambermaster.blob.core.windows.net/userfiles/UserFiles/chambers/9078/File/Philippines/CeferinoS.RodolfoBio.pdf">Click here for Undersecretary Rodolfo&#39\;s bio</a>.<br />\n<br />\nIf you would like to attend the roundtable\, please register before Tuesday\, May 29. Please contact with Riley Smith at rsmith@usasean.org with any questions.
LOCATION:US-ASEAN Business Council 1101 17th Street NW\, Suite 411 Washington\, D.C.
UID:e.9078.6547
SEQUENCE:3
DTSTAMP:20260419T234151Z
URL:http://memberzone.usasean.org/events/details/roundtable-with-undersecretary-ceferino-s-rodolfo-philippines-department-of-trade-and-industry-6547
END:VEVENT

END:VCALENDAR
