BEGIN:VCALENDAR
VERSION:2.0
PRODID:-//ChamberMaster//Event Calendar 2.0//EN
METHOD:PUBLISH
X-PUBLISHED-TTL:P3D
REFRESH-INTERVAL:P3D
CALSCALE:GREGORIAN
BEGIN:VEVENT
DTSTART:20200113T040000Z
DTEND:20200113T040000Z
X-MICROSOFT-CDO-ALLDAYEVENT:FALSE
SUMMARY:Roundtable with U.S. Treasury Acting DAS for Trade\, Lailee Moghtader
DESCRIPTION:
X-ALT-DESC;FMTTYPE=text/html:
LOCATION:
UID:e.9078.8106
SEQUENCE:3
DTSTAMP:20260421T134134Z
URL:http://memberzone.usasean.org/events/details/roundtable-with-u-s-treasury-acting-das-for-trade-lailee-moghtader-8106
END:VEVENT

END:VCALENDAR
