BEGIN:VCALENDAR
VERSION:2.0
PRODID:-//ChamberMaster//Event Calendar 2.0//EN
METHOD:PUBLISH
X-PUBLISHED-TTL:P3D
REFRESH-INTERVAL:P3D
CALSCALE:GREGORIAN
BEGIN:VEVENT
DTSTART:20220823T180000Z
DTEND:20220823T190000Z
X-MICROSOFT-CDO-ALLDAYEVENT:FALSE
SUMMARY:Roundtable with The Honorable Robert F. Godec\, U.S. Ambassador to Thailand
DESCRIPTION:
X-ALT-DESC;FMTTYPE=text/html:
LOCATION:US-ASEAN Business Council\, Washington DC Office
UID:e.9078.8844
SEQUENCE:3
DTSTAMP:20260422T001326Z
URL:http://memberzone.usasean.org/events/details/roundtable-with-the-honorable-robert-f-godec-u-s-ambassador-to-thailand-8844
END:VEVENT

END:VCALENDAR
