BEGIN:VCALENDAR
VERSION:2.0
PRODID:-//ChamberMaster//Event Calendar 2.0//EN
METHOD:PUBLISH
X-PUBLISHED-TTL:P3D
REFRESH-INTERVAL:P3D
CALSCALE:GREGORIAN
BEGIN:VEVENT
DTSTART:20220718T130000Z
DTEND:20220718T140000Z
X-MICROSOFT-CDO-ALLDAYEVENT:FALSE
SUMMARY:Roundtable with The Honorable MaryKay Carlson\, U.S. Ambassador to Philippines
DESCRIPTION:US-ABC Roundtable with The Honorable MaryKay Carlson\, U.S. Ambassador to Philippines\n\n\n\nA Hybrid Event at the US-ABC Washington DC Office
X-ALT-DESC;FMTTYPE=text/html:<span style="color: rgb(68\, 68\, 68)\; font-family: Arial\, Helvetica\, sans-serif\; font-size: 16px\;">US-ABC Roundtable with The Honorable MaryKay Carlson\, U.S. Ambassador to Philippines<br />\n<br />\nA Hybrid Event at the US-ABC Washington DC Office</span>
LOCATION:Limited seating for in-person attendance at: 1101 17th St NW Suite 411\, Washington DC 20036. Zoom Dial in Option is available. Registration is required to attend this event.
UID:e.9078.8812
SEQUENCE:3
DTSTAMP:20260422T014943Z
URL:http://memberzone.usasean.org/events/details/roundtable-with-the-honorable-marykay-carlson-u-s-ambassador-to-philippines-8812
END:VEVENT

END:VCALENDAR
