BEGIN:VCALENDAR
VERSION:2.0
PRODID:-//ChamberMaster//Event Calendar 2.0//EN
METHOD:PUBLISH
X-PUBLISHED-TTL:P3D
REFRESH-INTERVAL:P3D
CALSCALE:GREGORIAN
BEGIN:VEVENT
DTSTART:20200228T133000Z
DTEND:20200228T143000Z
X-MICROSOFT-CDO-ALLDAYEVENT:FALSE
SUMMARY:Roundtable with the Hon. Kamala Shirin Lakhdhir\, U.S. Ambassador to Malaysia
DESCRIPTION:Please join us for a roundtable discussion with U.S. Ambassador to Malaysia Kamala Shirin Lakhdhir.  This will be an opportunity for members to be briefed on and further explore the latest economic and political developments in Malaysia\, as well as expectations for Malaysia's Chairmanship of APEC.  Ambassador Lakhdhir's official bio can be found here.  \n\n\n\nPlease note that there will be a dial-in option for those calling in from the region.  If you have any questions\, please contact Kim Yaeger at kyaeger@usasean.org.
X-ALT-DESC;FMTTYPE=text/html:Please join us for a roundtable discussion with U.S. Ambassador to Malaysia Kamala Shirin Lakhdhir.&nbsp\; This will be an opportunity for members to be briefed on and further explore the latest economic and political developments in Malaysia\, as well as expectations for Malaysia&#39\;s Chairmanship of APEC.&nbsp\; Ambassador Lakhdhir&#39\;s official bio can be found <a href="https://my.usembassy.gov/our-relationship/our-ambassador/">here</a>.&nbsp\;&nbsp\;<br />\n<br />\nPlease note that there will be a dial-in option for those calling in from the region.&nbsp\; If you have any questions\, please contact Kim Yaeger at kyaeger@usasean.org.&nbsp\;
LOCATION:US-ASEAN Business Council 1101 17th Street\, NW Suite 411 Washington\, DC
UID:e.9078.8148
SEQUENCE:3
DTSTAMP:20260420T230256Z
URL:http://memberzone.usasean.org/events/details/roundtable-with-the-hon-kamala-shirin-lakhdhir-u-s-ambassador-to-malaysia-8148
END:VEVENT

END:VCALENDAR
