BEGIN:VCALENDAR
VERSION:2.0
PRODID:-//ChamberMaster//Event Calendar 2.0//EN
METHOD:PUBLISH
X-PUBLISHED-TTL:P3D
REFRESH-INTERVAL:P3D
CALSCALE:GREGORIAN
BEGIN:VEVENT
DTSTART:20220818T150000Z
DTEND:20220818T160000Z
X-MICROSOFT-CDO-ALLDAYEVENT:FALSE
SUMMARY:Roundtable with Philippine Delegation on Public Services Act Amendment
DESCRIPTION:The Council will be hosting a roundtable with a Philippine delegation on the Public Service Act Amendments. For the first time\, the Philippines will establish an investment screening system to mitigate national risk.\n\nAs part of the delegation's visit in Washington D.C.\, they are keen to meet with the private sector for feedback and discussion.\n\nThe Philippine delegation will comprise of the following agencies:\n\n	National Security Council\n	Department of Finance\n	Department of Foreign Affairs\n	Securities and Exchange Commission\n	Department of Trade and Industry   Board of Investments\n	Department of Trade and Industry   Strategic Trade Management Office\n	Department of National Defense\, Washington\n\nLimited Seating Slots Available\n\nPlease contact James Escalante (jescalante@usasean.org) for more information.
X-ALT-DESC;FMTTYPE=text/html:<span style="color:#333333\;"><span style="font-family:georgia\,serif\;">The Council will be hosting a roundtable with a Philippine delegation on the Public Service Act Amendments.&nbsp\;For the first time\, the Philippines will establish an investment screening system to mitigate national risk.</span></span><br />\n<span style="color:#333333\;"><span style="font-family:georgia\,serif\;">As part of the delegation&rsquo\;s visit in Washington D.C.\, they are keen to meet with the private sector for feedback and discussion.</span></span><br />\n<span style="color:#333333\;"><span style="font-family:georgia\,serif\;">The Philippine delegation will comprise of the following agencies:</span></span>\n<ol>\n	<li style="font-size:12pt\;font-family:Calibri\, sans-serif\;color:rgb(0\, 0\, 0)\;"><span style="color:#333333\;"><span style="font-family:georgia\,serif\;">National Security Council</span></span></li>\n	<li style="font-size:12pt\;font-family:Calibri\, sans-serif\;color:rgb(0\, 0\, 0)\;"><span style="color:#333333\;"><span style="font-family:georgia\,serif\;">Department of Finance</span></span></li>\n	<li style="font-size:12pt\;font-family:Calibri\, sans-serif\;color:rgb(0\, 0\, 0)\;"><span style="color:#333333\;"><span style="font-family:georgia\,serif\;">Department of Foreign Affairs</span></span></li>\n	<li style="font-size:12pt\;font-family:Calibri\, sans-serif\;color:rgb(0\, 0\, 0)\;"><span style="color:#333333\;"><span style="font-family:georgia\,serif\;">Securities and Exchange Commission</span></span></li>\n	<li style="font-size:12pt\;font-family:Calibri\, sans-serif\;color:rgb(0\, 0\, 0)\;"><span style="color:#333333\;"><span style="font-family:georgia\,serif\;">Department of Trade and Industry &ndash\; Board of Investments</span></span></li>\n	<li style="font-size:12pt\;font-family:Calibri\, sans-serif\;color:rgb(0\, 0\, 0)\;"><span style="color:#333333\;"><span style="font-family:georgia\,serif\;">Department of Trade and Industry &ndash\; Strategic Trade Management Office</span></span></li>\n	<li style="font-size:12pt\;font-family:Calibri\, sans-serif\;color:rgb(0\, 0\, 0)\;"><span style="color:#333333\;"><span style="font-family:georgia\,serif\;">Department of National Defense\, Washington</span></span></li>\n</ol>\n<span style="background:yellow\;"><span style="color:#333333\;"><span style="font-family:georgia\,serif\;">Limited Seating Slots Available</span></span></span><br />\n<span style="color:#333333\;"><span style="font-family:georgia\,serif\;">Please contact James Escalante (<a href="mailto:jescalante@usasean.org" style="color:blue\;">jescalante@usasean.org</a>) for more information.</span></span>
LOCATION:The Hills Room 1101 17th St NW Suite 411 Washington D.C. 2003
UID:e.9078.8842
SEQUENCE:3
DTSTAMP:20260421T235402Z
URL:http://memberzone.usasean.org/events/details/roundtable-with-philippine-delegation-on-public-services-act-amendment-8842
END:VEVENT

END:VCALENDAR
