BEGIN:VCALENDAR
VERSION:2.0
PRODID:-//ChamberMaster//Event Calendar 2.0//EN
METHOD:PUBLISH
X-PUBLISHED-TTL:P3D
REFRESH-INTERVAL:P3D
CALSCALE:GREGORIAN
BEGIN:VEVENT
DTSTART:20140811T130000Z
DTEND:20140811T160000Z
X-MICROSOFT-CDO-ALLDAYEVENT:FALSE
SUMMARY:Roundtable with Mr. P. Ravidran\, Senior Director\, ASEAN Economic Cooperation\, MITI
DESCRIPTION:Conference Call Access (Lync):\n\nJoin Lync Meeting (Via Computer)\n\n\n\nJoin by phone\n\n+60321796999 (Malaysia\, Kuala Lumpur)           \n\n+12022635944 (United States)\n\nFind a local number\n\n\n\nConference ID: 975078896
X-ALT-DESC;FMTTYPE=text/html:<span style="font-family:arial\;"><span style="font-size:16px\;">Conference Call Access (Lync):</span><br />\n<strong><a href="https://join.microsoft.com/meet/jasbegum/1DB4SY8D">Join Lync Meeting (Via Computer)</a></strong><br />\n<br />\n<strong>Join by phone</strong><br />\n+60321796999 (Malaysia\, Kuala Lumpur) &nbsp\;&nbsp\;&nbsp\;&nbsp\;&nbsp\;&nbsp\;&nbsp\;&nbsp\;&nbsp\;&nbsp\;<br />\n+12022635944 (United States)<br />\n<a href="https://join.microsoft.com/dialin">Find a local number</a><br />\n<br />\n<strong>Conference ID:</strong> 975078896</span><br />\n<br />\n<br />\n&nbsp\;
LOCATION:Microsoft Offices Level 26\, Menara 3 Petronas Kuala Lumpur City Centre 50088 Kuala Lumpur
UID:e.9078.1207
SEQUENCE:3
DTSTAMP:20260420T072951Z
URL:http://memberzone.usasean.org/events/details/roundtable-with-mr-p-ravidran-senior-director-asean-economic-cooperation-miti-08-11-2014-1207
END:VEVENT

END:VCALENDAR
