BEGIN:VCALENDAR
VERSION:2.0
PRODID:-//ChamberMaster//Event Calendar 2.0//EN
METHOD:PUBLISH
X-PUBLISHED-TTL:P3D
REFRESH-INTERVAL:P3D
CALSCALE:GREGORIAN
BEGIN:VEVENT
DTSTART:20140319T200000Z
DTEND:20140319T210000Z
X-MICROSOFT-CDO-ALLDAYEVENT:FALSE
SUMMARY:Roundtable with Indonesian Parliamentary Fellows
DESCRIPTION:Please join us for an informal roundtable discussion with three visiting fellows from the Indonesian Parliament who are in Washington D.C. and interning on Capitol Hill as part of the USINDO Parliamentary Exchange Program. \n\n\n\nSuprihartini is the Head of the Secretariat for Commission I on Foreign Affairs in the Indonesian House of Representatives and is currently interning with the U.S. House Foreign Affairs Committee. \n\n\n\nAnissa Mariana Sukarna is an expert staff member of the inter-Parliamentary Cooperation Body (BKSAP) in the Indonesian House of Representatives and is currently interning with Representative Chabot (R-OH) on the House Subcommittee on the Asia-Pacific.\n\n\n\nAchmad Muchaddam Fahham is a researcher on religious issues from the Center for Research and Information Service (P3DI)\, part of the Secretariat General of the Indonesian House of Representatives. He is currently interning with Representatives Crowley (D-NY) and focusing on interfaith issues.
X-ALT-DESC;FMTTYPE=text/html:Please join us for an informal roundtable discussion with three visiting fellows from the Indonesian Parliament who are in Washington D.C. and interning on Capitol Hill as part of the USINDO Parliamentary Exchange Program.&nbsp\;<br />\n<br />\nSuprihartini is the Head of the Secretariat for Commission I on Foreign Affairs in the Indonesian House of Representatives and is currently interning with the U.S. House Foreign Affairs Committee.&nbsp\;<br />\n<br />\nAnissa Mariana Sukarna is an expert staff member of the inter-Parliamentary Cooperation Body (BKSAP) in the Indonesian House of Representatives and is currently interning with Representative Chabot (R-OH) on the House Subcommittee on the Asia-Pacific.<br />\n<br />\nAchmad Muchaddam Fahham is a researcher on religious issues from the Center for Research and Information Service (P3DI)\, part of the Secretariat General of the Indonesian House of Representatives. He is currently interning with Representatives Crowley (D-NY) and focusing on interfaith issues. &nbsp\;<br />\n<br />\n&nbsp\;
LOCATION:US-ASEAN Business Council 1101 17th Street NW\, Suite 411 Washington DC
UID:e.9078.1083
SEQUENCE:3
DTSTAMP:20260420T171835Z
URL:http://memberzone.usasean.org/events/details/roundtable-with-indonesian-parliamentary-fellows-03-19-2014-1083
END:VEVENT

END:VCALENDAR
