BEGIN:VCALENDAR
VERSION:2.0
PRODID:-//ChamberMaster//Event Calendar 2.0//EN
METHOD:PUBLISH
X-PUBLISHED-TTL:P3D
REFRESH-INTERVAL:P3D
CALSCALE:GREGORIAN
BEGIN:VEVENT
DTSTART:20190701T160000Z
DTEND:20190701T170000Z
X-MICROSOFT-CDO-ALLDAYEVENT:FALSE
SUMMARY:Roundtable with Incoming Senior Commercial Officer and Economic Counselor\, U.S. Embassy Kuala Lumpur
DESCRIPTION:Please join us for a roundtable discussion with Dennis Simmons\, Senior Commercial Officer\, and Juha Salin\, Economic Counselor\, who will be heading to the U.S. Embassy Kuala Lumpur later this summer. The roundtable will be an opportunity to meet the incoming officials and introduce your company's interests in Malaysia\, as well as discuss any challenges you are facing.
X-ALT-DESC;FMTTYPE=text/html:<span style="font-family:georgia\,serif\;"><span style="font-size:12.0pt\;">Please join us for a roundtable discussion with <a href="https://protect-us.mimecast.com/s/gQbdC68Mr3fV1DOhmEqbE">Dennis Simmons\, Senior Commercial Officer</a>\, and Juha Salin\, Economic Counselor\, who will be heading to the U.S. Embassy Kuala Lumpur later this summer. The roundtable will be an opportunity to meet the incoming officials and introduce your company&#39\;s interests in Malaysia\, as well as discuss any challenges you are facing.</span></span>
LOCATION:US-ASEAN Business Council 1101 17th St NW\, Suite 411 Washington\, DC
UID:e.9078.7943
SEQUENCE:3
DTSTAMP:20260425T020337Z
URL:http://memberzone.usasean.org/events/details/roundtable-with-incoming-senior-commercial-officer-and-economic-counselor-u-s-embassy-kuala-lumpur-7943
END:VEVENT

END:VCALENDAR
