BEGIN:VCALENDAR
VERSION:2.0
PRODID:-//ChamberMaster//Event Calendar 2.0//EN
METHOD:PUBLISH
X-PUBLISHED-TTL:P3D
REFRESH-INTERVAL:P3D
CALSCALE:GREGORIAN
BEGIN:VEVENT
DTSTART;VALUE=DATE:20130716
DTEND;VALUE=DATE:20130717
TRANSP:TRANSPARENT
X-MICROSOFT-CDO-ALLDAYEVENT:TRUE
SUMMARY:Roundtable with H.E. Bui Quang Vinh\, Minister of Planning and Investment\, Vietnam
DESCRIPTION:
X-ALT-DESC;FMTTYPE=text/html:
LOCATION:
UID:e.9078.834
SEQUENCE:3
DTSTAMP:20260421T205337Z
URL:http://memberzone.usasean.org/events/details/roundtable-with-h-e-bui-quang-vinh-minister-of-planning-and-investment-vietnam-07-16-2013-834
END:VEVENT

END:VCALENDAR
