BEGIN:VCALENDAR
VERSION:2.0
PRODID:-//ChamberMaster//Event Calendar 2.0//EN
METHOD:PUBLISH
X-PUBLISHED-TTL:P3D
REFRESH-INTERVAL:P3D
CALSCALE:GREGORIAN
BEGIN:VEVENT
DTSTART:20140610T143000Z
DTEND:20140610T153000Z
X-MICROSOFT-CDO-ALLDAYEVENT:FALSE
SUMMARY:Roundtable with Brunei Ministers Pehin Yasmin and Pehin Lim
DESCRIPTION:Please join us for a roundtable with Brunei's Minister of Energy\, H.E. Pehin Yasmin and Minister of Foreign Affairs and Trade II\, H.E. Pehin Lim. Minister of Energy Pehin Yasmin is one of the Sultan of Brunei's leading strategic advisors. Minister of Foreign Affairs and Trade II Pehin Lim is one of Brunei's leaders on the Trans Pacific Partnership (TPP) negotiations.
X-ALT-DESC;FMTTYPE=text/html:<span style="font-family:arial\,sans-serif\;"><span style="font-size:12.0pt\;">Please join us for a roundtable with Brunei&#39\;s Minister of Energy\, H.E. Pehin Yasmin and Minister of Foreign Affairs and Trade II\, H.E. Pehin Lim. Minister of Energy Pehin Yasmin is one of the Sultan of Brunei&#39\;s leading strategic advisors. Minister of Foreign Affairs and Trade II Pehin Lim is one of Brunei&#39\;s leaders on the Trans Pacific Partnership (TPP) negotiations.</span></span>
LOCATION:US-ASEAN Business Council 1101 17th Street NW\, Suite 411 Washington DC
UID:e.9078.1161
SEQUENCE:3
DTSTAMP:20260420T103354Z
URL:http://memberzone.usasean.org/events/details/roundtable-with-brunei-ministers-pehin-yasmin-and-pehin-lim-06-10-2014-1161
END:VEVENT

END:VCALENDAR
