BEGIN:VCALENDAR
VERSION:2.0
PRODID:-//ChamberMaster//Event Calendar 2.0//EN
METHOD:PUBLISH
X-PUBLISHED-TTL:P3D
REFRESH-INTERVAL:P3D
CALSCALE:GREGORIAN
BEGIN:VEVENT
DTSTART:20140813T130000Z
DTEND:20140813T140000Z
X-MICROSOFT-CDO-ALLDAYEVENT:FALSE
SUMMARY:Roundtable with Ambassador Joseph Y. Yun\, U.S. Ambassador to Malaysia
DESCRIPTION:Joseph Y. Yun\n\nU.S. Ambassador to Malaysia\n\n\n\nAmbassador Joseph Y. Yun was nominated by President Obama on July 23\, 2013\, and confirmed by the full Senate on August 1\, 2013\, to be the United States Ambassador to Malaysia.  \n\n\n\nAmbassador Yun most recently served as the Principal Deputy Assistant Secretary in the Bureau of East Asian and Pacific Affairs as well as the Deputy Assistant Secretary in the Bureau of East Asian and Pacific Affairs.  Mr. Yun's overseas postings include the Republic of Korea\, Thailand\, France\, Indonesia and Hong Kong. \n\n\n\nAmbassador Yun joined the Foreign Service in 1985. He is a career member of the Senior Foreign Service\, class of Minister-Counselor.  Before joining the Foreign Service\, Ambassador Yun was a senior economist for Data Resources\, Inc.\, in Lexington\, Massachusetts.  Ambassador Yun holds degrees from both the London School of Economics and the University of Wales.  He is married to Dr. Melanie Billings-Yun. They have one son.
X-ALT-DESC;FMTTYPE=text/html:<strong><span style="font-family:arial\,sans-serif\;"><span style="font-size:12.0pt\;">Joseph Y. Yun</span></span></strong><br />\n<strong><span style="font-family:arial\,sans-serif\;"><span style="font-size:12.0pt\;"><strong>U.S. Ambassador to Malaysia</strong></span></span></strong><br />\n<br />\n<span style="font-family:arial\,sans-serif\;"><span style="font-size:12.0pt\;">Ambassador Joseph Y. Yun was nominated by President Obama on July 23\, 2013\, and confirmed by the full Senate on August 1\, 2013\, to be the United States Ambassador to Malaysia.&nbsp\;&nbsp\;<br />\n<br />\nAmbassador Yun most recently served as the Principal Deputy Assistant Secretary in the Bureau of East Asian and Pacific Affairs as well as the Deputy Assistant Secretary in the Bureau of East Asian and Pacific Affairs.&nbsp\; Mr. Yun&rsquo\;s overseas postings include the Republic of Korea\, Thailand\, France\, Indonesia and Hong Kong.&nbsp\;<br />\n<br />\nAmbassador Yun joined the Foreign Service in 1985. He is a career member of the Senior Foreign Service\, class of Minister-Counselor.&nbsp\; Before joining the Foreign Service\, Ambassador Yun was a senior economist for Data Resources\, Inc.\, in Lexington\, Massachusetts.&nbsp\; Ambassador Yun holds degrees from both the London School of Economics and the University of Wales.&nbsp\; He is married to Dr. Melanie Billings-Yun. They have one son.</span></span>
LOCATION:USABC Offices 1101 17th St. NW\, Suite 411 Washington\, DC 20036
UID:e.9078.1222
SEQUENCE:3
DTSTAMP:20260420T074220Z
URL:http://memberzone.usasean.org/events/details/roundtable-with-ambassador-joseph-y-yun-u-s-ambassador-to-malaysia-08-13-2014-1222
END:VEVENT

END:VCALENDAR
