BEGIN:VCALENDAR
VERSION:2.0
PRODID:-//ChamberMaster//Event Calendar 2.0//EN
METHOD:PUBLISH
X-PUBLISHED-TTL:P3D
REFRESH-INTERVAL:P3D
CALSCALE:GREGORIAN
BEGIN:VEVENT
DTSTART:20150114T193000Z
DTEND:20150114T203000Z
X-MICROSOFT-CDO-ALLDAYEVENT:FALSE
SUMMARY:Roundtable with Ambassador Awang and Tan Sri JJ to Discuss Flood Relief in Malaysia
DESCRIPTION:Roundtable with Ambassador Awang and Tan Sri JJ to Discuss Flood Relief in Malaysia
X-ALT-DESC;FMTTYPE=text/html:Roundtable with Ambassador Awang and Tan Sri JJ to Discuss Flood Relief in Malaysia
LOCATION:GE Offices 1299 Pennsylvania Ave. Washington\, DC 20004
UID:e.9078.1338
SEQUENCE:3
DTSTAMP:20260419T222331Z
URL:http://memberzone.usasean.org/events/details/roundtable-with-ambassador-awang-and-tan-sri-jj-to-discuss-flood-relief-in-malaysia-01-14-2015-1338
END:VEVENT

END:VCALENDAR
