BEGIN:VCALENDAR
VERSION:2.0
PRODID:-//ChamberMaster//Event Calendar 2.0//EN
METHOD:PUBLISH
X-PUBLISHED-TTL:P3D
REFRESH-INTERVAL:P3D
CALSCALE:GREGORIAN
BEGIN:VEVENT
DTSTART:20220830T200000Z
DTEND:20220830T210000Z
X-MICROSOFT-CDO-ALLDAYEVENT:FALSE
SUMMARY:Roundtable with Amb. Yohannes Abraham\, U.S. Ambassador to ASEAN
DESCRIPTION:Roundtable with The Honorable Yohannes Abraham\n\nAmbassador-Designate to the U.S. Mission to ASEAN
X-ALT-DESC;FMTTYPE=text/html:Roundtable with The Honorable Yohannes Abraham<br />\nAmbassador-Designate to the U.S. Mission to ASEAN
LOCATION:US-ASEAN Business Council 1101 17th Street NW\, Suite 411 Washington\, D.C. 20036
UID:e.9078.8849
SEQUENCE:3
DTSTAMP:20260422T000334Z
URL:http://memberzone.usasean.org/events/details/roundtable-with-amb-yohannes-abraham-u-s-ambassador-to-asean-8849
END:VEVENT

END:VCALENDAR
