BEGIN:VCALENDAR
VERSION:2.0
PRODID:-//ChamberMaster//Event Calendar 2.0//EN
METHOD:PUBLISH
X-PUBLISHED-TTL:P3D
REFRESH-INTERVAL:P3D
CALSCALE:GREGORIAN
BEGIN:VEVENT
DTSTART:20171116T070000Z
DTEND:20171116T080000Z
X-MICROSOFT-CDO-ALLDAYEVENT:FALSE
SUMMARY:Roundtable on Pharma Pricing Policies across ASEAN
DESCRIPTION:Please join us for a discussion on pricing policies in ASEAN. We will cover the following countries: \n\n	Philippines\n	Singapore\n	Vietnam \n	Thailand
X-ALT-DESC;FMTTYPE=text/html:Please join us for a discussion on pricing policies in ASEAN. We will cover the following countries:&nbsp\;\n<ul>\n	<li>Philippines</li>\n	<li>Singapore</li>\n	<li>Vietnam&nbsp\;</li>\n	<li>Thailand&nbsp\;</li>\n</ul>\n
LOCATION:USABC Office Shaw Towers 100 Beach Road #22-04/05
UID:e.9078.6420
SEQUENCE:3
DTSTAMP:20260421T104347Z
URL:http://memberzone.usasean.org/events/details/roundtable-on-pharma-pricing-policies-across-asean-6420
END:VEVENT

END:VCALENDAR
