BEGIN:VCALENDAR
VERSION:2.0
PRODID:-//ChamberMaster//Event Calendar 2.0//EN
METHOD:PUBLISH
X-PUBLISHED-TTL:P3D
REFRESH-INTERVAL:P3D
CALSCALE:GREGORIAN
BEGIN:VEVENT
DTSTART:20150206T010000Z
DTEND:20150206T043000Z
X-MICROSOFT-CDO-ALLDAYEVENT:FALSE
SUMMARY:Roundtable on Malaysia's Goods and Services Tax (GST) | February 6\, 2015
DESCRIPTION:In collaboration with the Ministry of Finance (MOF) and the Royal Malaysian Customs Department\, the Council is pleased to invite you to a roundtable discussion on Malaysia's forthcoming Goods and Services Tax (GST). The GST will come into effect April 2015. This roundtable provides companies with an opportunity to learn more about the GST and voice any concerns that they may have.
X-ALT-DESC;FMTTYPE=text/html:<br />\n<span style="font-family:arial\,sans-serif\;"><span style="font-size:12.0pt\;">In collaboration with the Ministry of Finance (MOF) and the Royal Malaysian Customs Department\, the Council is pleased to invite you to a roundtable discussion on Malaysia&rsquo\;s forthcoming <a href="http://www.treasury.gov.my/index.php?option=com_content&amp\;view=category&amp\;id=506&amp\;Itemid=2493&amp\;lang=en">Goods and Services Tax (GST)</a>. The GST will come into effect April 2015. This roundtable provides companies with an opportunity to learn more about the GST and voice any concerns that they may have.</span></span><br />\n<br />\n&nbsp\;
LOCATION:Microsoft Level 26\, Menara 3 Petronas Kuala Lumpur City Centre 50088 Kuala Lumpur
UID:e.9078.1340
SEQUENCE:3
DTSTAMP:20260419T203734Z
URL:http://memberzone.usasean.org/events/details/roundtable-on-malaysia-s-goods-and-services-tax-gst-february-6-2015-02-06-2015-1340
END:VEVENT

END:VCALENDAR
