BEGIN:VCALENDAR
VERSION:2.0
PRODID:-//ChamberMaster//Event Calendar 2.0//EN
METHOD:PUBLISH
X-PUBLISHED-TTL:P3D
REFRESH-INTERVAL:P3D
CALSCALE:GREGORIAN
BEGIN:VEVENT
DTSTART:20140919T140000Z
DTEND:20140919T160000Z
X-MICROSOFT-CDO-ALLDAYEVENT:FALSE
SUMMARY:Roundtable on Investment trends in Malaysia\, Featuring the Chairman and the Deputy CEO of MIDA
DESCRIPTION:Tan Sri Amirsham A. Aziz\, Chairman of MIDA\, and Datuk Phang Ah Tong\, Deputy CEO\, Manufacturing and Services Development I\, have generously offered to brief the Council on investment trends in Malaysia. \n\n\n\nThe Malaysian Investment Development Authority (MIDA) is the government's principal agency for the promotion of the manufacturing and services sectors in Malaysia. The services provided by MIDA include providing information on the opportunities for investments and assisting companies that are looking for joint venture partners.\n\n\n\nFor more information please contact Marc Mealy at mmealy@usasean.org.
X-ALT-DESC;FMTTYPE=text/html:<span style="background-image:initial\;background-attachment:initial\;background-size:initial\;background-origin:initial\;background-clip:initial\;background-position:initial\;background-repeat:initial\;"><span style="font-family:arial\,sans-serif\;"><span style="font-size:12pt\;">Tan Sri Amirsham&nbsp\;A. Aziz\, Chairman of MIDA\, and Datuk</span></span></span><span style="font-family:arial\,sans-serif\;"><span style="font-size:12.0pt\;">&nbsp\;<span style="background-image:initial\;background-attachment:initial\;background-size:initial\;background-origin:initial\;background-clip:initial\;background-position:initial\;background-repeat:initial\;">Phang&nbsp\;Ah Tong\, Deputy CEO\,&nbsp\;Manufacturing and Services Development&nbsp\;I\, have generously offered to brief the Council on investment trends in Malaysia.&nbsp\;</span><br />\n<br />\nThe Malaysian Investment Development Authority (MIDA)&nbsp\;is the government&#39\;s principal agency for the promotion of the manufacturing and services sectors in Malaysia.&nbsp\;The services provided by MIDA include providing information on the opportunities for investments and assisting companies that are looking for joint venture partners.<br />\n<br />\nFor more information please contact Marc Mealy at <a href="mailto:mmealy@usasean.org">mmealy@usasean.org</a>.&nbsp\;</span></span>
LOCATION:Mandarin Oriental Hotel Oriental Ballroom C 1330 Maryland Avenue\, SW Washington\, DC
UID:e.9078.1243
SEQUENCE:3
DTSTAMP:20260420T052929Z
URL:http://memberzone.usasean.org/events/details/roundtable-on-investment-trends-in-malaysia-featuring-the-chairman-and-the-deputy-ceo-of-mida-09-19-2014-1243
END:VEVENT

END:VCALENDAR
