BEGIN:VCALENDAR
VERSION:2.0
PRODID:-//ChamberMaster//Event Calendar 2.0//EN
METHOD:PUBLISH
X-PUBLISHED-TTL:P3D
REFRESH-INTERVAL:P3D
CALSCALE:GREGORIAN
BEGIN:VEVENT
DTSTART:20130816T160000Z
DTEND:20130816T173000Z
X-MICROSOFT-CDO-ALLDAYEVENT:FALSE
SUMMARY:Roundtable Lunch Discussion with U.S. Representative Ed Royce\, Chairman of the U.S. Committee on Foreign Affairs
DESCRIPTION:
X-ALT-DESC;FMTTYPE=text/html:
LOCATION:Stamford American Auditorium AmCham Office 1 Scotts Road #23-03/04/05 Shaw Centre Singapore 228208
UID:e.9078.888
SEQUENCE:3
DTSTAMP:20260421T190145Z
URL:http://memberzone.usasean.org/events/details/roundtable-lunch-discussion-with-u-s-representative-ed-royce-chairman-of-the-u-s-committee-on-foreign-affairs-08-16-2013-888
END:VEVENT

END:VCALENDAR
