BEGIN:VCALENDAR
VERSION:2.0
PRODID:-//ChamberMaster//Event Calendar 2.0//EN
METHOD:PUBLISH
X-PUBLISHED-TTL:P3D
REFRESH-INTERVAL:P3D
CALSCALE:GREGORIAN
BEGIN:VEVENT
DTSTART:20210923T140000Z
DTEND:20210923T150000Z
X-MICROSOFT-CDO-ALLDAYEVENT:FALSE
SUMMARY:Roundtable Discussion with U.S. Ambassador to Myanmar Thomas Vajda
DESCRIPTION:Members-only roundtable discussion on Myanmar featuring U.S. Ambassador to Myanmar\, Thomas Vajda.
X-ALT-DESC;FMTTYPE=text/html:Members-only roundtable discussion on Myanmar featuring U.S. Ambassador to Myanmar\, Thomas Vajda.&nbsp\;
LOCATION:TBD
UID:e.9078.8573
SEQUENCE:3
DTSTAMP:20260419T142044Z
URL:http://memberzone.usasean.org/events/details/roundtable-discussion-with-u-s-ambassador-to-myanmar-thomas-vajda-8573
END:VEVENT

END:VCALENDAR
