BEGIN:VCALENDAR
VERSION:2.0
PRODID:-//ChamberMaster//Event Calendar 2.0//EN
METHOD:PUBLISH
X-PUBLISHED-TTL:P3D
REFRESH-INTERVAL:P3D
CALSCALE:GREGORIAN
BEGIN:VEVENT
DTSTART:20140314T131500Z
DTEND:20140314T141500Z
X-MICROSOFT-CDO-ALLDAYEVENT:FALSE
SUMMARY:Roundtable Discussion with the Honorable William E. Todd
DESCRIPTION:Members are invited to join the Council for a Members Briefing  with the Honorable William E. Todd\, U.S. Ambassador to Cambodia.   This will be his first time back to the Council since he led a reverse trade mission to Washington\, D.C. in July 2013. This meeting will be an excellent opportunity for members to update him on their companies' interests\, goals\, and priorities in Cambodia.  Ambassador Todd's bio can be found here.
X-ALT-DESC;FMTTYPE=text/html:<span style="font-size:16px\;"><span style="font-family: arial\;">Members are invited to join the Council for a Members Briefing&nbsp\; with the Honorable William E. Todd\, U.S. Ambassador to Cambodia.&nbsp\;&nbsp\; </span>This will be his first time back to the Council since he led a reverse trade mission to Washington\, D.C. in July 2013. This meeting will be an excellent opportunity for members to update him on their companies&#39\; interests\, goals\, and priorities in Cambodia.&nbsp\; Ambassador Todd&#39\;s bio can be found <a href="http://cambodia.usembassy.gov/ambassador.html">here</a>.</span><br />\n&nbsp\;
LOCATION:1101 17th Street NW Suite 411 Washington\, D.C.
UID:e.9078.1069
SEQUENCE:3
DTSTAMP:20260420T214214Z
URL:http://memberzone.usasean.org/events/details/roundtable-discussion-with-the-honorable-william-e-todd-03-14-2014-1069
END:VEVENT

END:VCALENDAR
