BEGIN:VCALENDAR
VERSION:2.0
PRODID:-//ChamberMaster//Event Calendar 2.0//EN
METHOD:PUBLISH
X-PUBLISHED-TTL:P3D
REFRESH-INTERVAL:P3D
CALSCALE:GREGORIAN
BEGIN:VEVENT
DTSTART:20140410T193000Z
DTEND:20140410T203000Z
X-MICROSOFT-CDO-ALLDAYEVENT:FALSE
SUMMARY:Roundtable Discussion with the Governor of the Bank of Thailand
DESCRIPTION:
X-ALT-DESC;FMTTYPE=text/html:
LOCATION:TBC
UID:e.9078.1109
SEQUENCE:3
DTSTAMP:20260420T154207Z
URL:http://memberzone.usasean.org/events/details/roundtable-discussion-with-the-governor-of-the-bank-of-thailand-04-10-2014-1109
END:VEVENT

END:VCALENDAR
