BEGIN:VCALENDAR
VERSION:2.0
PRODID:-//ChamberMaster//Event Calendar 2.0//EN
METHOD:PUBLISH
X-PUBLISHED-TTL:P3D
REFRESH-INTERVAL:P3D
CALSCALE:GREGORIAN
BEGIN:VEVENT
DTSTART;VALUE=DATE:20111114
DTEND;VALUE=DATE:20111115
TRANSP:TRANSPARENT
X-MICROSOFT-CDO-ALLDAYEVENT:TRUE
SUMMARY:Roundtable Discussion with Singapore Defense Attache - Nov 14 2011
DESCRIPTION:
X-ALT-DESC;FMTTYPE=text/html:
LOCATION:
UID:e.9078.534
SEQUENCE:3
DTSTAMP:20260425T222023Z
URL:http://memberzone.usasean.org/events/details/roundtable-discussion-with-singapore-defense-attache-nov-14-2011-11-14-2011-534
END:VEVENT

END:VCALENDAR
