BEGIN:VCALENDAR
VERSION:2.0
PRODID:-//ChamberMaster//Event Calendar 2.0//EN
METHOD:PUBLISH
X-PUBLISHED-TTL:P3D
REFRESH-INTERVAL:P3D
CALSCALE:GREGORIAN
BEGIN:VEVENT
DTSTART:20130211T190000Z
DTEND:20130211T200000Z
X-MICROSOFT-CDO-ALLDAYEVENT:FALSE
SUMMARY:Roundtable Discussion with Phyllis Yoshida and Amos Hochstein
DESCRIPTION:Roundtable discussion on the U.S.-Asia Pacific Partnership for a Sustainable Energy Future.
X-ALT-DESC;FMTTYPE=text/html:Roundtable discussion on the U.S.-Asia&nbsp\;Pacific Partnership for a Sustainable Energy Future.
LOCATION:U.S. Department of State
UID:e.9078.698
SEQUENCE:3
DTSTAMP:20260422T094306Z
URL:http://memberzone.usasean.org/events/details/roundtable-discussion-with-phyllis-yoshida-and-amos-hochstein-02-11-2013-698
END:VEVENT

END:VCALENDAR
