BEGIN:VCALENDAR
VERSION:2.0
PRODID:-//ChamberMaster//Event Calendar 2.0//EN
METHOD:PUBLISH
X-PUBLISHED-TTL:P3D
REFRESH-INTERVAL:P3D
CALSCALE:GREGORIAN
BEGIN:VEVENT
DTSTART:20140311T133000Z
DTEND:20140311T143000Z
X-MICROSOFT-CDO-ALLDAYEVENT:FALSE
SUMMARY:Roundtable Discussion with Minister of Finance of Vietnam
DESCRIPTION:The US-ASEAN Business Council and U.S. Chamber of Commerce are pleased to invite you to a\n		\n		\n			Roundtable Discussion\n\n			with \n\n			H.E. Dinh Tien Dung\n\n			Minister of Finance of Vietnam\n		\n		\n			Tuesday\, March 11\, 2014\n\n			9:30AM - 10:30AM\n\n			U.S. Chamber of Commerce\n		\n		\n			Please respond before COB Friday\, March 7th\, 2014\n		\n		\n			Minister Dung will be in Washington\, DC for discussions with U.S. government counterparts and has agreed to meet with the business community.  He will discuss financial sector priorities and developments in Vietnam. The roundtable will be an excellent opportunity for companies to obtain an update from the Minister and address any industry specific issues.
X-ALT-DESC;FMTTYPE=text/html:<table align="center" border="0" cellpadding="0" cellspacing="0" style="width:650px\;" width="650">\n	<tbody>\n		<tr>\n			<td style="padding:7.5pt 0in 0in 0in\;"><span style="letter-spacing:.75pt\;"><span style="font-family:georgia\,serif\;">The US-ASEAN Business Council and U.S. Chamber of Commerce are pleased to invite you to a</span></span></td>\n		</tr>\n		<tr>\n			<td style="padding:15.0pt 0in 15.0pt 0in\;"><strong><span style="letter-spacing:0.75pt\;"><span style="font-family:georgia\,serif\;"><span style="font-size:16pt\;">Roundtable Discussion</span></span></span></strong><br />\n			<strong><span style="letter-spacing:0.75pt\;"><span style="font-family:georgia\,serif\;"><span style="font-size:9pt\;">with </span></span></span></strong><br />\n			<strong><span style="letter-spacing:0.75pt\;"><span style="font-family:georgia\,serif\;"><span style="font-size:16pt\;">H.E. Dinh Tien Dung<br />\n			Minister of Finance of Vietnam</span></span></span></strong></td>\n		</tr>\n		<tr>\n			<td style="padding:0in 0in 0in 0in\;"><span style="font-family:georgia\,serif\;">Tuesday\, March 11\, 2014<br />\n			9:30AM - 10:30AM<br />\n			U.S. Chamber of Commerce</span></td>\n		</tr>\n		<tr>\n			<td style="padding:7.5pt 0in 7.5pt 0in\;"><span style="font-family:georgia\,serif\;">Please respond before COB Friday\, March 7th\, 2014</span></td>\n		</tr>\n		<tr>\n			<td style="padding:0in 0in 0in 0in\;"><span style="font-family:garamond\,serif\;"><span style="font-size:14.0pt\;">Minister Dung will be in Washington\, DC for discussions with U.S. government counterparts and has agreed to meet with the business community.&nbsp\; He will discuss financial sector priorities and developments in Vietnam. The roundtable will be an excellent opportunity for companies to obtain an update from the Minister and address any industry specific issues.</span></span></td>\n		</tr>\n	</tbody>\n</table>\n\n<div style="clear:both\;">&nbsp\;</div>\n
LOCATION:
UID:e.9078.1071
SEQUENCE:3
DTSTAMP:20260420T172111Z
URL:http://memberzone.usasean.org/events/details/roundtable-discussion-with-minister-of-finance-of-vietnam-03-11-2014-1071
END:VEVENT

END:VCALENDAR
