BEGIN:VCALENDAR
VERSION:2.0
PRODID:-//ChamberMaster//Event Calendar 2.0//EN
METHOD:PUBLISH
X-PUBLISHED-TTL:P3D
REFRESH-INTERVAL:P3D
CALSCALE:GREGORIAN
BEGIN:VEVENT
DTSTART:20220711T090000Z
DTEND:20220711T100000Z
X-MICROSOFT-CDO-ALLDAYEVENT:FALSE
SUMMARY:Roundtable Discussion with Matt Murray
DESCRIPTION:Roundtable Discussion with Matt Murray
X-ALT-DESC;FMTTYPE=text/html:Roundtable Discussion with Matt Murray
LOCATION:The Conrad Bangkok Hotel
UID:e.9078.8818
SEQUENCE:3
DTSTAMP:20260422T014434Z
URL:http://memberzone.usasean.org/events/details/roundtable-discussion-with-matt-murray-8818
END:VEVENT

END:VCALENDAR
