BEGIN:VCALENDAR
VERSION:2.0
PRODID:-//ChamberMaster//Event Calendar 2.0//EN
METHOD:PUBLISH
X-PUBLISHED-TTL:P3D
REFRESH-INTERVAL:P3D
CALSCALE:GREGORIAN
BEGIN:VEVENT
DTSTART;VALUE=DATE:20111207
DTEND;VALUE=DATE:20111208
TRANSP:TRANSPARENT
X-MICROSOFT-CDO-ALLDAYEVENT:TRUE
SUMMARY:Roundtable Discussion with Legislative Drafting Committee of the DPR\, Dec 7\, DC - Dec 7 2011
DESCRIPTION:
X-ALT-DESC;FMTTYPE=text/html:
LOCATION:
UID:e.9078.524
SEQUENCE:3
DTSTAMP:20260425T121013Z
URL:http://memberzone.usasean.org/events/details/roundtable-discussion-with-legislative-drafting-committee-of-the-dpr-dec-7-dc-dec-7-2011-12-07-2011-524
END:VEVENT

END:VCALENDAR
