BEGIN:VCALENDAR
VERSION:2.0
PRODID:-//ChamberMaster//Event Calendar 2.0//EN
METHOD:PUBLISH
X-PUBLISHED-TTL:P3D
REFRESH-INTERVAL:P3D
CALSCALE:GREGORIAN
BEGIN:VEVENT
DTSTART:20221013T173000Z
DTEND:20221013T183000Z
X-MICROSOFT-CDO-ALLDAYEVENT:FALSE
SUMMARY:Roundtable Discussion with Laos Deputy Minister of Finance
DESCRIPTION:In-Person Roundtable Discussion\n\n			\n\n			featuring\n\n			\n\n			H.E. Phouthanouphet Saysombath\n\n			Deputy Minister of Finance\n\n			Government of Lao PDR\n\n			\n\n			on the sideline of IMF World Bank Annual Meetings 2022
X-ALT-DESC;FMTTYPE=text/html:<table cellpadding="0" cellspacing="0" id="invitation" style="border-spacing: 0px\; caret-color: rgb(33\, 33\, 33)\; color: rgb(33\, 33\, 33)\; font-family: Arial\; font-size: 13.3333px\; text-align: center\; text-indent: 0px\; text-size-adjust: auto\; margin: 0px auto\; width: 650px\;">\n	<tbody>\n		<tr>\n		</tr>\n		<tr>\n			<td colspan="3" id="event-info" style="padding: 20px 0px\; color: rgb(51\, 51\, 51)\; letter-spacing: 1px\; font-size: 16pt\; font-weight: bold\; line-height: 1.5\;"><span style="font-size:14px\;"><span style="font-family:arial\;">In-Person Roundtable Discussion<br />\n			<br />\n			featuring<br />\n			<br />\n			H.E. Phouthanouphet Saysombath<br />\n			Deputy Minister of Finance<br />\n			Government of Lao PDR<br />\n			<br />\n			on the sideline of IMF World Bank Annual Meetings 2022</span></span></td>\n		</tr>\n		<tr>\n		</tr>\n	</tbody>\n</table>\n
LOCATION:US-ASEAN Business Council 1101 17th Street NW Washington\, DC
UID:e.9078.8892
SEQUENCE:3
DTSTAMP:20260421T205359Z
URL:http://memberzone.usasean.org/events/details/roundtable-discussion-with-laos-deputy-minister-of-finance-8892
END:VEVENT

END:VCALENDAR
