BEGIN:VCALENDAR
VERSION:2.0
PRODID:-//ChamberMaster//Event Calendar 2.0//EN
METHOD:PUBLISH
X-PUBLISHED-TTL:P3D
REFRESH-INTERVAL:P3D
CALSCALE:GREGORIAN
BEGIN:VEVENT
DTSTART:20140625T140000Z
DTEND:20140625T150000Z
X-MICROSOFT-CDO-ALLDAYEVENT:FALSE
SUMMARY:Roundtable Discussion with H.E. Vijavat Isarabhakdi\, Ambassador of Thailand to the U.S.
DESCRIPTION:The US-ASEAN Business Council is pleased to invite you to a\n		\n		\n			Roundtable Discussion\n\n			with \n\n			H.E. Vijavat Isarabhakdi\n\n			Ambassador of Thailand to the U.S.\n		\n		\n			Wednesday\, June 25\, 2014\n\n			10:00 am - 11:00 am\n\n			\n\n			Generously hosted by:\n\n			\n\n			Chevron\n\n			1401 I Street\, NW\, Suite 1200\n\n			Washington\, DC
X-ALT-DESC;FMTTYPE=text/html:<table align="center" border="0" cellpadding="0" cellspacing="0" style="width:650px\;" width="650">\n	<tbody>\n		<tr>\n			<td style="padding:7.5pt 0in 0in 0in\;"><span style="letter-spacing:.75pt\;"><span style="font-family:georgia\,serif\;">The US-ASEAN Business Council is pleased to invite you to a</span></span></td>\n		</tr>\n		<tr>\n			<td style="padding:15.0pt 0in 15.0pt 0in\;"><strong><span style="letter-spacing:0.75pt\;"><span style="font-family:georgia\,serif\;"><span style="font-size:16pt\;">Roundtable Discussion</span></span></span></strong><br />\n			<strong><span style="letter-spacing:0.75pt\;"><span style="font-family:georgia\,serif\;"><span style="font-size:13.5pt\;">with&nbsp\;</span></span></span></strong><br />\n			<strong><span style="letter-spacing:0.75pt\;"><span style="font-family:georgia\,serif\;"><span style="font-size:16pt\;">H.E. Vijavat Isarabhakdi<br />\n			Ambassador of Thailand to the U.S.</span></span></span></strong></td>\n		</tr>\n		<tr>\n			<td style="padding:0in 0in 0in 0in\;"><span style="font-family:georgia\,serif\;">Wednesday\, June 25\, 2014<br />\n			10:00 am - 11:00 am<br />\n			<br />\n			Generously hosted by:<br />\n			<br />\n			Chevron<br />\n			1401 I Street\, NW\, Suite 1200<br />\n			Washington\, DC</span></td>\n		</tr>\n	</tbody>\n</table>\n\n<div style="clear:both\;">&nbsp\;</div>\n
LOCATION:
UID:e.9078.1177
SEQUENCE:3
DTSTAMP:20260420T103632Z
URL:http://memberzone.usasean.org/events/details/roundtable-discussion-with-h-e-vijavat-isarabhakdi-ambassador-of-thailand-to-the-u-s-06-25-2014-1177
END:VEVENT

END:VCALENDAR
