BEGIN:VCALENDAR
VERSION:2.0
PRODID:-//ChamberMaster//Event Calendar 2.0//EN
METHOD:PUBLISH
X-PUBLISHED-TTL:P3D
REFRESH-INTERVAL:P3D
CALSCALE:GREGORIAN
BEGIN:VEVENT
DTSTART;VALUE=DATE:20120924
DTEND;VALUE=DATE:20120925
TRANSP:TRANSPARENT
X-MICROSOFT-CDO-ALLDAYEVENT:TRUE
SUMMARY:Roundtable Discussion with H.E. Jero Wacik - Sep 24 2012
DESCRIPTION:
X-ALT-DESC;FMTTYPE=text/html:
LOCATION:
UID:e.9078.517
SEQUENCE:3
DTSTAMP:20260424T203922Z
URL:http://memberzone.usasean.org/events/details/roundtable-discussion-with-h-e-jero-wacik-sep-24-2012-09-24-2012-517
END:VEVENT

END:VCALENDAR
