BEGIN:VCALENDAR
VERSION:2.0
PRODID:-//ChamberMaster//Event Calendar 2.0//EN
METHOD:PUBLISH
X-PUBLISHED-TTL:P3D
REFRESH-INTERVAL:P3D
CALSCALE:GREGORIAN
BEGIN:VEVENT
DTSTART:20121219T183000Z
DTEND:20121219T193000Z
X-MICROSOFT-CDO-ALLDAYEVENT:FALSE
SUMMARY:Roundtable Discussion with Atul Keshap
DESCRIPTION:Please join us for a meeting with Atul Keshap\, the U.S. Senior Official for APEC. Mr. Keshap has just returned from a series of unofficial APEC Senior Officials Meetings in Jakarta\, and will give members an update on the 2013 APEC agenda items discussed at those meetings\, as well as the latest updates on the U.S. government's priorities for APEC 2013. Mr. Keshap is also eager to discuss ideas and proposals from companies for activities to be held during APEC 2013 in Indonesia and across APEC.
X-ALT-DESC;FMTTYPE=text/html:<span style="color:#1f497d\;"><span style="font-family:calibri\,sans-serif\;"><span style="font-size:11.0pt\;">Please join us for a meeting with Atul Keshap\, the U.S. Senior Official for APEC. Mr. Keshap has just returned from a series of unofficial APEC Senior Officials Meetings in Jakarta\, and will give members an update on the 2013 APEC agenda items discussed at those meetings\, as well as the latest updates on the U.S. government&rsquo\;s priorities for APEC 2013. Mr. Keshap is also eager to discuss ideas and proposals from companies for activities to be held during APEC 2013 in Indonesia and across APEC.&nbsp\;</span></span></span>
LOCATION:1101 17th St. NW Suite 411\, Washington\, DC
UID:e.9078.661
SEQUENCE:3
DTSTAMP:20260424T161220Z
URL:http://memberzone.usasean.org/events/details/roundtable-discussion-with-atul-keshap-12-19-2012-661
END:VEVENT

END:VCALENDAR
