BEGIN:VCALENDAR
VERSION:2.0
PRODID:-//ChamberMaster//Event Calendar 2.0//EN
METHOD:PUBLISH
X-PUBLISHED-TTL:P3D
REFRESH-INTERVAL:P3D
CALSCALE:GREGORIAN
BEGIN:VEVENT
DTSTART:20150501T183000Z
DTEND:20150501T193000Z
X-MICROSOFT-CDO-ALLDAYEVENT:FALSE
SUMMARY:Roundtable Discussion with Ambassador Scot Marciel
DESCRIPTION:The U.S. Chamber of Commerce and the US-ASEAN Business Council invite you to an off-the-record roundtable discussion with Ambassador Scot Marciel\, Principal Deputy Assistant Secretary\, Bureau of East Asian and Pacific Affairs at the U.S. Department of State\, who will discuss his recent trip to the Philippines\, Indonesia\, and Thailand for ASEAN and bilateral government meetings.
X-ALT-DESC;FMTTYPE=text/html:The U.S. Chamber of Commerce and the US-ASEAN Business Council invite you to an off-the-record roundtable discussion with Ambassador&nbsp\;Scot Marciel\, Principal Deputy Assistant Secretary\, Bureau of East Asian and Pacific Affairs at the U.S. Department of State\, who will discuss his recent trip to the Philippines\, Indonesia\, and Thailand for ASEAN and bilateral government meetings.
LOCATION:US-ASEAN Business Council 1101 17th St. NW Suite 411 Washington\, DC
UID:e.9078.1540
SEQUENCE:3
DTSTAMP:20260419T151645Z
URL:http://memberzone.usasean.org/events/details/roundtable-discussion-with-ambassador-scot-marciel-05-01-2015-1540
END:VEVENT

END:VCALENDAR
