BEGIN:VCALENDAR
VERSION:2.0
PRODID:-//ChamberMaster//Event Calendar 2.0//EN
METHOD:PUBLISH
X-PUBLISHED-TTL:P3D
REFRESH-INTERVAL:P3D
CALSCALE:GREGORIAN
BEGIN:VEVENT
DTSTART:20140324T133000Z
DTEND:20140324T143000Z
X-MICROSOFT-CDO-ALLDAYEVENT:FALSE
SUMMARY:Roundtable Discussion with Alabama Department of Commerce Secretary Greg Canfield
DESCRIPTION:Roundtable Discussion with Greg Canfield\n\nAlabama Department of Commerce Secretary
X-ALT-DESC;FMTTYPE=text/html:Roundtable Discussion with Greg Canfield<br />\nAlabama Department of Commerce Secretary
LOCATION:US-ASEAN Business Council 100 Beach Road #22-04/05 Shaw Tower\, Singapore 189702
UID:e.9078.1088
SEQUENCE:3
DTSTAMP:20260420T171944Z
URL:http://memberzone.usasean.org/events/details/roundtable-discussion-with-alabama-department-of-commerce-secretary-greg-canfield-03-24-2014-1088
END:VEVENT

END:VCALENDAR
