BEGIN:VCALENDAR
VERSION:2.0
PRODID:-//ChamberMaster//Event Calendar 2.0//EN
METHOD:PUBLISH
X-PUBLISHED-TTL:P3D
REFRESH-INTERVAL:P3D
CALSCALE:GREGORIAN
BEGIN:VEVENT
DTSTART:20230208T040000Z
DTEND:20230208T050000Z
X-MICROSOFT-CDO-ALLDAYEVENT:FALSE
SUMMARY:Roundtable Discussion on Supply Chain Resilience with US Embassy Bangkok
DESCRIPTION:On Wednesday 8th February 2023\, US-ASEAN Business Council held a a small Roundtable Discussion on Supply Chain Resilience with the Economic and Commerce team from the US Embassy Bangkok.
X-ALT-DESC;FMTTYPE=text/html:<span style="font-family:arial\;"><span style="font-size:12px\;">On Wednesday 8th February 2023\, US-ASEAN Business Council held a&nbsp\;a small <strong>Roundtable Discussion on Supply Chain Resilience</strong> with the Economic and Commerce team from the US Embassy Bangkok.&nbsp\;&nbsp\;</span></span>
LOCATION:Board Room on 23rd floor (AIG) of Siam Piwat Tower.
UID:e.9078.8957
SEQUENCE:3
DTSTAMP:20260421T143050Z
URL:http://memberzone.usasean.org/events/details/roundtable-discussion-on-supply-chain-resilience-with-us-embassy-bangkok-8957
END:VEVENT

END:VCALENDAR
