BEGIN:VCALENDAR
VERSION:2.0
PRODID:-//ChamberMaster//Event Calendar 2.0//EN
METHOD:PUBLISH
X-PUBLISHED-TTL:P3D
REFRESH-INTERVAL:P3D
CALSCALE:GREGORIAN
BEGIN:VEVENT
DTSTART:20210805T140000Z
DTEND:20210805T150000Z
X-MICROSOFT-CDO-ALLDAYEVENT:FALSE
SUMMARY:Roundtable Discussion on Myanmar with US Government Agencies
DESCRIPTION:
X-ALT-DESC;FMTTYPE=text/html:
LOCATION:virtual
UID:e.9078.8534
SEQUENCE:3
DTSTAMP:20260419T155931Z
URL:http://memberzone.usasean.org/events/details/roundtable-discussion-on-myanmar-with-us-government-agencies-8534
END:VEVENT

END:VCALENDAR
