BEGIN:VCALENDAR
VERSION:2.0
PRODID:-//ChamberMaster//Event Calendar 2.0//EN
METHOD:PUBLISH
X-PUBLISHED-TTL:P3D
REFRESH-INTERVAL:P3D
CALSCALE:GREGORIAN
BEGIN:VEVENT
DTSTART:20150108T160000Z
DTEND:20150108T170000Z
X-MICROSOFT-CDO-ALLDAYEVENT:FALSE
SUMMARY:Roundtable Discussion on Infrastructure Opportunities in Indonesia with Scot Marciel
DESCRIPTION:President Joko Widodo has stated that the rapid development of transport\, energy and ICT infrastructure is one of his administration's top priorities.  Join PDAS Marciel and the Council for readouts from recent meetings with key Government of Indonesia officials on Jakarta's infrastructure plans.  The discussion will focus on strategic approaches U.S. companies can take to secure project contracts with the new Government of Indonesia.\n\n\n\nSeating is limited -  Please register ASAP to ensure your attendance.  A dial-in option will be provided to registrants unable to attend in person.  Plan to arrive by 10:45AM with photo identification to allow time for clearing building security.
X-ALT-DESC;FMTTYPE=text/html:<span style="font-size:14px\;"><span style="font-family:arial\;">President Joko Widodo&nbsp\;has stated that&nbsp\;the rapid development of transport\, energy and ICT infrastructure is one of his administration&#39\;s top priorities. &nbsp\;Join PDAS Marciel and the Council for readouts from recent meetings&nbsp\;with key Government of Indonesia officials on Jakarta&#39\;s&nbsp\;infrastructure plans. &nbsp\;The discussion will focus on strategic approaches U.S. companies can take to secure project contracts with the new Government of Indonesia.<br />\n<br />\n<strong>Seating is limited</strong><span style="background-image:initial\;background-attachment:initial\;background-size:initial\;background-origin:initial\;background-clip:initial\;background-position:initial\;background-repeat:initial\;">&nbsp\;-&nbsp\; Please register ASAP&nbsp\;to ensure your attendance. &nbsp\;A dial-in option will be provided to registrants unable to attend in person. &nbsp\;Plan to arrive by 10:45AM with photo identification&nbsp\;to allow time for clearing building security.</span></span></span>
LOCATION:U.S. Department of State 2201 C Street NW Washington\, DC
UID:e.9078.1331
SEQUENCE:3
DTSTAMP:20260419T221939Z
URL:http://memberzone.usasean.org/events/details/roundtable-discussion-on-infrastructure-opportunities-in-indonesia-with-scot-marciel-01-08-2015-1331
END:VEVENT

END:VCALENDAR
