BEGIN:VCALENDAR
VERSION:2.0
PRODID:-//ChamberMaster//Event Calendar 2.0//EN
METHOD:PUBLISH
X-PUBLISHED-TTL:P3D
REFRESH-INTERVAL:P3D
CALSCALE:GREGORIAN
BEGIN:VEVENT
DTSTART;VALUE=DATE:20101123
DTEND;VALUE=DATE:20120113
TRANSP:TRANSPARENT
X-MICROSOFT-CDO-ALLDAYEVENT:TRUE
SUMMARY:Roundtable Discussion on Healthcare with U.S Embassy to Singapore - Nov 23 2010
DESCRIPTION:
X-ALT-DESC;FMTTYPE=text/html:
LOCATION:
UID:e.9078.501
SEQUENCE:3
DTSTAMP:20260425T102104Z
URL:http://memberzone.usasean.org/events/details/roundtable-discussion-on-healthcare-with-u-s-embassy-to-singapore-nov-23-2010-11-23-2010-501
END:VEVENT

END:VCALENDAR
